BEGIN:VCALENDAR
VERSION:2.0
PRODID:-//Mobaligh Education Foundation - ECPv5.16.1//NONSGML v1.0//EN
CALSCALE:GREGORIAN
METHOD:PUBLISH
X-WR-CALNAME:Mobaligh Education Foundation
X-ORIGINAL-URL:https://www.mobaligheducationfoundation.org
X-WR-CALDESC:Events for Mobaligh Education Foundation
REFRESH-INTERVAL;VALUE=DURATION:PT1H
X-Robots-Tag:noindex
X-PUBLISHED-TTL:PT1H
BEGIN:VTIMEZONE
TZID:UTC
BEGIN:STANDARD
TZOFFSETFROM:+0000
TZOFFSETTO:+0000
TZNAME:UTC
DTSTART:20200101T000000
END:STANDARD
END:VTIMEZONE
BEGIN:VEVENT
DTSTART;TZID=UTC:20201009T170000
DTEND;TZID=UTC:20211231T000000
DTSTAMP:20260422T224934
CREATED:20201009T212834Z
LAST-MODIFIED:20220613T054849Z
UID:78-1602262800-1640908800@www.mobaligheducationfoundation.org
SUMMARY:2020 Games For the Homeless people
DESCRIPTION:Interested in participating the event 2017-18 California marathon pleasure & praising pain was born and will give you a complete account of the system\, and expound the actual teachings of the great explorer of the truth the master-builder of human happiness. No one rejects\, dislikes\, or avoids pleasure itself\, because it is those who do not know how to pursue pleasure rationally encounter. \nWe denounce with righteous indignation and dislike men who are beguiled and seds demoralized by the charm pleasure of the moment\,blinded by desire\, that they cannot foresee the pains ut and trouble that are bound to ensue and equal blame belongs to those who fail in their duty through weakness of will\, uts from toil and painare perfectly simple and easy to distinguish. \nPleasures and praising pain was born and will give you a completed account of the systems seds expound the actual teaching of the great explorer the master builder nor again there anyones who loves or pursues desires to obtain pain of itself\, because it is pain\, but because occasionally. \n     \n\n         \n\n            \n        \n \nKnow how to pursue pleasure rationally encounter consequences that are extremely painful seds or again is there anyone who loves or pursues or desires to obtain pain of itself\, because seds our it pain\, but because occasionally circumstances occur which toil and pain can undertakes laborious physical exercise.
URL:https://www.mobaligheducationfoundation.org/event/2020-games-for-the-homeless-people/
LOCATION:New York\, 692 Adward St. NY 99548\, New York\, NY\, United States
CATEGORIES:Upcoming Events
ATTACH;FMTTYPE=image/jpeg:https://www.mobaligheducationfoundation.org/wp-content/uploads/2020/10/event-13.jpg
END:VEVENT
BEGIN:VEVENT
DTSTART;TZID=UTC:20201009T170000
DTEND;TZID=UTC:20211231T000000
DTSTAMP:20260422T224934
CREATED:20201009T212804Z
LAST-MODIFIED:20220613T054849Z
UID:82-1602262800-1640908800@www.mobaligheducationfoundation.org
SUMMARY:Event for Save The Water Worldwide
DESCRIPTION:Interested in participating the event 2017-18 California marathon pleasure & praising pain was born and will give you a complete account of the system\, and expound the actual teachings of the great explorer of the truth the master-builder of human happiness. No one rejects\, dislikes\, or avoids pleasure itself\, because it is those who do not know how to pursue pleasure rationally encounter. \nWe denounce with righteous indignation and dislike men who are beguiled and seds demoralized by the charm pleasure of the moment\,blinded by desire\, that they cannot foresee the pains ut and trouble that are bound to ensue and equal blame belongs to those who fail in their duty through weakness of will\, uts from toil and painare perfectly simple and easy to distinguish. \nPleasures and praising pain was born and will give you a completed account of the systems seds expound the actual teaching of the great explorer the master builder nor again there anyones who loves or pursues desires to obtain pain of itself\, because it is pain\, but because occasionally. \n     \n\n         \n\n            \n        \n \nKnow how to pursue pleasure rationally encounter consequences that are extremely painful seds or again is there anyone who loves or pursues or desires to obtain pain of itself\, because seds our it pain\, but because occasionally circumstances occur which toil and pain can undertakes laborious physical exercise.
URL:https://www.mobaligheducationfoundation.org/event/event-for-save-the-water-worldwide/
LOCATION:New York\, 692 Adward St. NY 99548\, New York\, NY\, United States
CATEGORIES:Upcoming Events
ATTACH;FMTTYPE=image/jpeg:https://www.mobaligheducationfoundation.org/wp-content/uploads/2020/10/event-12.jpg
END:VEVENT
BEGIN:VEVENT
DTSTART;TZID=UTC:20201009T170000
DTEND;TZID=UTC:20211231T000000
DTSTAMP:20260422T224934
CREATED:20201009T212751Z
LAST-MODIFIED:20220613T054849Z
UID:80-1602262800-1640908800@www.mobaligheducationfoundation.org
SUMMARY:2019 Run For the Cancer people
DESCRIPTION:Interested in participating the event 2017-18 California marathon pleasure & praising pain was born and will give you a complete account of the system\, and expound the actual teachings of the great explorer of the truth the master-builder of human happiness. No one rejects\, dislikes\, or avoids pleasure itself\, because it is those who do not know how to pursue pleasure rationally encounter. \nWe denounce with righteous indignation and dislike men who are beguiled and seds demoralized by the charm pleasure of the moment\,blinded by desire\, that they cannot foresee the pains ut and trouble that are bound to ensue and equal blame belongs to those who fail in their duty through weakness of will\, uts from toil and painare perfectly simple and easy to distinguish. \nPleasures and praising pain was born and will give you a completed account of the systems seds expound the actual teaching of the great explorer the master builder nor again there anyones who loves or pursues desires to obtain pain of itself\, because it is pain\, but because occasionally. \n     \n\n         \n\n            \n        \n \nKnow how to pursue pleasure rationally encounter consequences that are extremely painful seds or again is there anyone who loves or pursues or desires to obtain pain of itself\, because seds our it pain\, but because occasionally circumstances occur which toil and pain can undertakes laborious physical exercise.
URL:https://www.mobaligheducationfoundation.org/event/2019-run-for-the-cancer-people/
LOCATION:New York\, 692 Adward St. NY 99548\, New York\, NY\, United States
CATEGORIES:Upcoming Events
ATTACH;FMTTYPE=image/jpeg:https://www.mobaligheducationfoundation.org/wp-content/uploads/2020/10/event-11.jpg
END:VEVENT
BEGIN:VEVENT
DTSTART;TZID=UTC:20201009T170000
DTEND;TZID=UTC:20211231T000000
DTSTAMP:20260422T224934
CREATED:20201009T212734Z
LAST-MODIFIED:20220613T054849Z
UID:81-1602262800-1640908800@www.mobaligheducationfoundation.org
SUMMARY:2020 Run For the Cancer people
DESCRIPTION:Interested in participating the event 2017-18 California marathon pleasure & praising pain was born and will give you a complete account of the system\, and expound the actual teachings of the great explorer of the truth the master-builder of human happiness. No one rejects\, dislikes\, or avoids pleasure itself\, because it is those who do not know how to pursue pleasure rationally encounter. \nWe denounce with righteous indignation and dislike men who are beguiled and seds demoralized by the charm pleasure of the moment\,blinded by desire\, that they cannot foresee the pains ut and trouble that are bound to ensue and equal blame belongs to those who fail in their duty through weakness of will\, uts from toil and painare perfectly simple and easy to distinguish. \nPleasures and praising pain was born and will give you a completed account of the systems seds expound the actual teaching of the great explorer the master builder nor again there anyones who loves or pursues desires to obtain pain of itself\, because it is pain\, but because occasionally. \n     \n\n         \n\n            \n        \n \nKnow how to pursue pleasure rationally encounter consequences that are extremely painful seds or again is there anyone who loves or pursues or desires to obtain pain of itself\, because seds our it pain\, but because occasionally circumstances occur which toil and pain can undertakes laborious physical exercise.
URL:https://www.mobaligheducationfoundation.org/event/2020-run-for-the-cancer-people/
LOCATION:New York\, 692 Adward St. NY 99548\, New York\, NY\, United States
CATEGORIES:Upcoming Events
ATTACH;FMTTYPE=image/jpeg:https://www.mobaligheducationfoundation.org/wp-content/uploads/2020/10/event-10.jpg
END:VEVENT
BEGIN:VEVENT
DTSTART;TZID=UTC:20201009T170000
DTEND;TZID=UTC:20211231T000000
DTSTAMP:20260422T224934
CREATED:20201009T212720Z
LAST-MODIFIED:20220613T054849Z
UID:79-1602262800-1640908800@www.mobaligheducationfoundation.org
SUMMARY:Donate for poor children Education
DESCRIPTION:Interested in participating the event 2017-18 California marathon pleasure & praising pain was born and will give you a complete account of the system\, and expound the actual teachings of the great explorer of the truth the master-builder of human happiness. No one rejects\, dislikes\, or avoids pleasure itself\, because it is those who do not know how to pursue pleasure rationally encounter. \nWe denounce with righteous indignation and dislike men who are beguiled and seds demoralized by the charm pleasure of the moment\,blinded by desire\, that they cannot foresee the pains ut and trouble that are bound to ensue and equal blame belongs to those who fail in their duty through weakness of will\, uts from toil and painare perfectly simple and easy to distinguish. \nPleasures and praising pain was born and will give you a completed account of the systems seds expound the actual teaching of the great explorer the master builder nor again there anyones who loves or pursues desires to obtain pain of itself\, because it is pain\, but because occasionally. \n     \n\n         \n\n            \n        \n \nKnow how to pursue pleasure rationally encounter consequences that are extremely painful seds or again is there anyone who loves or pursues or desires to obtain pain of itself\, because seds our it pain\, but because occasionally circumstances occur which toil and pain can undertakes laborious physical exercise.
URL:https://www.mobaligheducationfoundation.org/event/donate-for-poor-children-education/
LOCATION:New York\, 692 Adward St. NY 99548\, New York\, NY\, United States
CATEGORIES:Upcoming Events
ATTACH;FMTTYPE=image/jpeg:https://www.mobaligheducationfoundation.org/wp-content/uploads/2020/10/event-2.jpg
END:VEVENT
BEGIN:VEVENT
DTSTART;TZID=UTC:20201009T170000
DTEND;TZID=UTC:20211231T000000
DTSTAMP:20260422T224934
CREATED:20201009T201213Z
LAST-MODIFIED:20220613T054849Z
UID:69-1602262800-1640908800@www.mobaligheducationfoundation.org
SUMMARY:Let‘s walk the poor children Education
DESCRIPTION:Interested in participating the event 2017-18 California marathon pleasure & praising pain was born and will give you a complete account of the system\, and expound the actual teachings of the great explorer of the truth the master-builder of human happiness. No one rejects\, dislikes\, or avoids pleasure itself\, because it is those who do not know how to pursue pleasure rationally encounter. \nWe denounce with righteous indignation and dislike men who are beguiled and seds demoralized by the charm pleasure of the moment\,blinded by desire\, that they cannot foresee the pains ut and trouble that are bound to ensue and equal blame belongs to those who fail in their duty through weakness of will\, uts from toil and painare perfectly simple and easy to distinguish. \nPleasures and praising pain was born and will give you a completed account of the systems seds expound the actual teaching of the great explorer the master builder nor again there anyones who loves or pursues desires to obtain pain of itself\, because it is pain\, but because occasionally. \n     \n\n         \n\n            \n        \n \nKnow how to pursue pleasure rationally encounter consequences that are extremely painful seds or again is there anyone who loves or pursues or desires to obtain pain of itself\, because seds our it pain\, but because occasionally circumstances occur which toil and pain can undertakes laborious physical exercise.
URL:https://www.mobaligheducationfoundation.org/event/lets-walk-the-poor-children-education/
LOCATION:New York\, 692 Adward St. NY 99548\, New York\, NY\, United States
CATEGORIES:Upcoming Events
ATTACH;FMTTYPE=image/jpeg:https://www.mobaligheducationfoundation.org/wp-content/uploads/2020/10/event-1.jpg
END:VEVENT
END:VCALENDAR